BEGIN:VCALENDAR
VERSION:2.0
PRODID:-//eventon.com NONSGML v1.0//EN
CALSCALE:GREGORIAN
METHOD:PUBLISH
BEGIN:VEVENT
UID:69e8dcc9f27c4
DTSTAMP:20260422T143553Z
DTSTART:20260424
DTEND:20260425
LOCATION:YDSC Grimwith Reservoir
SUMMARY:Phantom Training Day
DESCRIPTION:Phantom Training Day\nhttps://yorkshiredales.sc/events/phantom-
 training-day/
URL:https://yorkshiredales.sc/events/phantom-training-day/
END:VEVENT
END:VCALENDAR