BEGIN:VCALENDAR
VERSION:2.0
PRODID:-//eventon.com NONSGML v1.0//EN
CALSCALE:GREGORIAN
METHOD:PUBLISH
BEGIN:VEVENT
UID:69e8dcaabec03
DTSTAMP:20260422T143522Z
DTSTART:20261107T173000Z
DTEND:20261107T210000Z
LOCATION:YDSC Grimwith Reservoir
SUMMARY:Bonfire Social
DESCRIPTION:Bonfire Social\nhttps://yorkshiredales.sc/events/bonfire-social
 -2/
URL:https://yorkshiredales.sc/events/bonfire-social-2/
END:VEVENT
END:VCALENDAR