BEGIN:VCALENDAR
VERSION:2.0
PRODID:-//eventon.com NONSGML v1.0//EN
CALSCALE:GREGORIAN
METHOD:PUBLISH
BEGIN:VEVENT
UID:69e8dcacad09f
DTSTAMP:20260422T143524Z
DTSTART:20260602
DTEND:20260603
LOCATION:YDSC Grimwith Reservoir
SUMMARY:Carnegie Great Outdoors Children's Activity Day
DESCRIPTION:Carnegie Great Outdoors Children's Activity Day\nhttps://yorksh
 iredales.sc/events/carnegie-great-outdoors-childrens-activity-day/
URL:https://yorkshiredales.sc/events/carnegie-great-outdoors-childrens-activity-day/
END:VEVENT
END:VCALENDAR