BEGIN:VCALENDAR
VERSION:2.0
PRODID:-//eventon.com NONSGML v1.0//EN
CALSCALE:GREGORIAN
METHOD:PUBLISH
BEGIN:VEVENT
UID:69e8dcc8dd3bd
DTSTAMP:20260422T143552Z
DTSTART:20260620
DTEND:20260621
LOCATION:YDSC Grimwith Reservoir
SUMMARY:Commodore's Weekend
DESCRIPTION:Commodore's Weekend\nhttps://yorkshiredales.sc/events/commodore
 s-weekend-5/
URL:https://yorkshiredales.sc/events/commodores-weekend-5/
END:VEVENT
END:VCALENDAR