BEGIN:VCALENDAR
VERSION:2.0
PRODID:-//eventon.com NONSGML v1.0//EN
CALSCALE:GREGORIAN
METHOD:PUBLISH
BEGIN:VEVENT
UID:69e8dcd677dfb
DTSTAMP:20260422T143606Z
DTSTART:20260906T100000Z
DTEND:20260906T143000Z
LOCATION:YDSC Grimwith Reservoir
SUMMARY:Autumn Series 2
DESCRIPTION:A series of alternative format races. Specific details which wi
 ll be advised on the Club Racing page.\nhttps://yorkshiredales.sc/events/au
 tumn-series-2-5/
URL:https://yorkshiredales.sc/events/autumn-series-2-5/
END:VEVENT
END:VCALENDAR