BEGIN:VCALENDAR
VERSION:2.0
PRODID:-//eventon.com NONSGML v1.0//EN
CALSCALE:GREGORIAN
METHOD:PUBLISH
BEGIN:VEVENT
UID:69e8dcc8c6108
DTSTAMP:20260422T143552Z
DTSTART:20260913T100000Z
DTEND:20260913T143000Z
LOCATION:YDSC Grimwith Reservoir
SUMMARY:Autumn Series 3
DESCRIPTION:A series of alternative format races. Specific details which wi
 ll be advised on the Club Racing page.\nhttps://yorkshiredales.sc/events/au
 tumn-series-3-5/
URL:https://yorkshiredales.sc/events/autumn-series-3-5/
END:VEVENT
END:VCALENDAR