BEGIN:VCALENDAR
VERSION:2.0
PRODID:-//eventon.com NONSGML v1.0//EN
CALSCALE:GREGORIAN
METHOD:PUBLISH
BEGIN:VEVENT
UID:69e8dca9e76bb
DTSTAMP:20260422T143521Z
DTSTART:20260927T100000Z
DTEND:20260927T143000Z
LOCATION:YDSC Grimwith Reservoir
SUMMARY:Autumn Series 5
DESCRIPTION:A series of alternative format races. Specific details which wi
 ll be advised on the Club Racing page.\nhttps://yorkshiredales.sc/events/au
 tumn-series-5-5/
URL:https://yorkshiredales.sc/events/autumn-series-5-5/
END:VEVENT
END:VCALENDAR