BEGIN:VCALENDAR
VERSION:2.0
PRODID:-//eventon.com NONSGML v1.0//EN
CALSCALE:GREGORIAN
METHOD:PUBLISH
BEGIN:VEVENT
UID:69e8dcd64c5ce
DTSTAMP:20260422T143606Z
DTSTART:20261025T110000Z
DTEND:20261025T153000Z
LOCATION:YDSC Grimwith Reservoir
SUMMARY:Autumn Trophy Day
DESCRIPTION:One day Pursuit competition with two pursuit races\,  one in th
 e morning\,  one after lunch\,  both to count\nhttps://yorkshiredales.sc/ev
 ents/autumn-trophy-day-6/
URL:https://yorkshiredales.sc/events/autumn-trophy-day-6/
END:VEVENT
END:VCALENDAR