BEGIN:VCALENDAR
VERSION:2.0
PRODID:-//eventon.com NONSGML v1.0//EN
CALSCALE:GREGORIAN
METHOD:PUBLISH
BEGIN:VEVENT
UID:69e8dcd4c8313
DTSTAMP:20260422T143604Z
DTSTART:20260503T100000Z
DTEND:20260503T143000Z
LOCATION:YDSC Grimwith Reservoir
SUMMARY:Early Summer Series 3
DESCRIPTION:AM 2 races back to back with separate starts 11:00 &#038; 11:05
 \,  PM 2 races back to back with separate starts 13:30 &#038; 13:35\nhttps:
 //yorkshiredales.sc/events/early-summer-series-3-5/
URL:https://yorkshiredales.sc/events/early-summer-series-3-5/
END:VEVENT
END:VCALENDAR