BEGIN:VCALENDAR
VERSION:2.0
PRODID:-//eventon.com NONSGML v1.0//EN
CALSCALE:GREGORIAN
METHOD:PUBLISH
BEGIN:VEVENT
UID:69e8dcd520a3b
DTSTAMP:20260422T143605Z
DTSTART:20260524T100000Z
DTEND:20260524T143000Z
LOCATION:YDSC Grimwith Reservoir
SUMMARY:Early Summer Series 6
DESCRIPTION:AM 2 races back to back with separate starts 11:00 &#038; 11:05
 \,  PM 2 races back to back with separate starts 13:30 &#038; 13:35\nhttps:
 //yorkshiredales.sc/events/early-summer-series-6-4/
URL:https://yorkshiredales.sc/events/early-summer-series-6-4/
END:VEVENT
END:VCALENDAR