BEGIN:VCALENDAR
VERSION:2.0
PRODID:-//eventon.com NONSGML v1.0//EN
CALSCALE:GREGORIAN
METHOD:PUBLISH
BEGIN:VEVENT
UID:69e8dcd6370bb
DTSTAMP:20260422T143606Z
DTSTART:20260621T100000Z
DTEND:20260621T143000Z
LOCATION:YDSC Grimwith Reservoir
SUMMARY:Early Summer Trophy Day- The Graham Cooke Memorial Pursuit Race
DESCRIPTION:One day Pursuit competition with two pursuit races\,  one in th
 e morning\,  one after lunch\,  both to count\nhttps://yorkshiredales.sc/ev
 ents/early-summer-trophy-day-6/
URL:https://yorkshiredales.sc/events/early-summer-trophy-day-6/
END:VEVENT
END:VCALENDAR