BEGIN:VCALENDAR
VERSION:2.0
PRODID:-//eventon.com NONSGML v1.0//EN
CALSCALE:GREGORIAN
METHOD:PUBLISH
BEGIN:VEVENT
UID:69e8dd1788090
DTSTAMP:20260422T143711Z
DTSTART:20261108T113000Z
DTEND:20261108T153000Z
LOCATION:YDSC Grimwith Reservoir
SUMMARY:Frostbite Series 2
DESCRIPTION:Usually 2 races: 11:30 mass start W/L if possible and back to b
 ack mass start around the buoys\nhttps://yorkshiredales.sc/events/frostbite
 -series-2-6/
URL:https://yorkshiredales.sc/events/frostbite-series-2-6/
END:VEVENT
END:VCALENDAR