BEGIN:VCALENDAR
VERSION:2.0
PRODID:-//eventon.com NONSGML v1.0//EN
CALSCALE:GREGORIAN
METHOD:PUBLISH
BEGIN:VEVENT
UID:69e8dd184c31d
DTSTAMP:20260422T143712Z
DTSTART:20261122T113000Z
DTEND:20261122T153000Z
LOCATION:YDSC Grimwith Reservoir
SUMMARY:Frostbite Series 4
DESCRIPTION:Usually 2 races: 11:30 mass start W/L if possible and back to b
 ack mass start around the buoys\nhttps://yorkshiredales.sc/events/frostbite
 -series-4-6/
URL:https://yorkshiredales.sc/events/frostbite-series-4-6/
END:VEVENT
END:VCALENDAR