BEGIN:VCALENDAR
VERSION:2.0
PRODID:-//eventon.com NONSGML v1.0//EN
CALSCALE:GREGORIAN
METHOD:PUBLISH
BEGIN:VEVENT
UID:69e8dd2d4146d
DTSTAMP:20260422T143733Z
DTSTART:20260802T100000Z
DTEND:20260802T143000Z
LOCATION:YDSC Grimwith Reservoir
SUMMARY:Late Summer Series 6
DESCRIPTION:AM 2 races back to back with separate starts 11:00 &#038; 11:05
 \,  PM 2 races back to back with separate starts 13:30 &#038; 13:35\nhttps:
 //yorkshiredales.sc/events/late-summer-series-6-5/
URL:https://yorkshiredales.sc/events/late-summer-series-6-5/
END:VEVENT
END:VCALENDAR