BEGIN:VCALENDAR
VERSION:2.0
PRODID:-//eventon.com NONSGML v1.0//EN
CALSCALE:GREGORIAN
METHOD:PUBLISH
BEGIN:VEVENT
UID:69e8dd2bc7507
DTSTAMP:20260422T143731Z
DTSTART:20260823T100000Z
DTEND:20260823T143000Z
LOCATION:YDSC Grimwith Reservoir
SUMMARY:Late Summer Trophy Day
DESCRIPTION:One day Pursuit competition with two pursuit races\,  one in th
 e morning\,  one after lunch\,  both to count\nhttps://yorkshiredales.sc/ev
 ents/late-summer-trophy-day-6/
URL:https://yorkshiredales.sc/events/late-summer-trophy-day-6/
END:VEVENT
END:VCALENDAR