BEGIN:VCALENDAR
VERSION:2.0
PRODID:-//eventon.com NONSGML v1.0//EN
CALSCALE:GREGORIAN
METHOD:PUBLISH
BEGIN:VEVENT
UID:69e8dd17e6d91
DTSTAMP:20260422T143711Z
DTSTART:20260422T183000Z
DTEND:20260422T193000Z
LOCATION:YDSC Grimwith Reservoir
SUMMARY:Wednesday Evening Series
DESCRIPTION:One handicapped race around suitable buoys or windward leeward.
  One fleet.\nhttps://yorkshiredales.sc/events/wednesday-evening-series-23/
URL:https://yorkshiredales.sc/events/wednesday-evening-series-23/
END:VEVENT
END:VCALENDAR