BEGIN:VCALENDAR
VERSION:2.0
PRODID:-//eventon.com NONSGML v1.0//EN
CALSCALE:GREGORIAN
METHOD:PUBLISH
BEGIN:VEVENT
UID:69e8dd1e5056d
DTSTAMP:20260422T143718Z
DTSTART:20260520T183000Z
DTEND:20260520T193000Z
LOCATION:YDSC Grimwith Reservoir
SUMMARY:Wednesday Evening Series
DESCRIPTION:One handicapped race around suitable buoys or windward leeward.
  One fleet.\nhttps://yorkshiredales.sc/events/wednesday-evening-series-27/
URL:https://yorkshiredales.sc/events/wednesday-evening-series-27/
END:VEVENT
END:VCALENDAR