BEGIN:VCALENDAR
VERSION:2.0
PRODID:-//eventon.com NONSGML v1.0//EN
CALSCALE:GREGORIAN
METHOD:PUBLISH
BEGIN:VEVENT
UID:69e8dd1de4a66
DTSTAMP:20260422T143717Z
DTSTART:20260722T120000Z
DTEND:20260722T193000Z
LOCATION:YDSC Grimwith Reservoir
SUMMARY:Wednesday Evening Series
DESCRIPTION:One handicapped race around suitable buoys or windward leeward.
  One fleet.\nhttps://yorkshiredales.sc/events/wednesday-evening-series-36/
URL:https://yorkshiredales.sc/events/wednesday-evening-series-36/
END:VEVENT
END:VCALENDAR