BEGIN:VCALENDAR
VERSION:2.0
PRODID:-//eventon.com NONSGML v1.0//EN
CALSCALE:GREGORIAN
METHOD:PUBLISH
BEGIN:VEVENT
UID:69e8dd6e2efbe
DTSTAMP:20260422T143838Z
DTSTART:20260826T120000Z
DTEND:20260826T190000Z
LOCATION:YDSC Grimwith Reservoir
SUMMARY:Wednesday Evening Series
DESCRIPTION:One handicapped race around suitable buoys or windward leeward.
  One fleet.\nhttps://yorkshiredales.sc/events/wednesday-evening-series-41/
URL:https://yorkshiredales.sc/events/wednesday-evening-series-41/
END:VEVENT
END:VCALENDAR