BEGIN:VCALENDAR
VERSION:2.0
PRODID:-//eventon.com NONSGML v1.0//EN
CALSCALE:GREGORIAN
METHOD:PUBLISH
BEGIN:VEVENT
UID:69e8dc75022cb
DTSTAMP:20260422T143429Z
DTSTART:20260516T120000Z
DTEND:20260516T160000Z
LOCATION:YDSC Grimwith Reservoir
SUMMARY:Dinghy Adult Improver 2
DESCRIPTION:A series of 8 sessions and a regatta. 1pm-4.30pm (please arriv
 e at 12.30). Aimed at those graduating from beginner sessions.\nhttps://yor
 kshiredales.sc/events/dinghy-adult-improver-2-2/
URL:https://yorkshiredales.sc/events/dinghy-adult-improver-2-2/
END:VEVENT
END:VCALENDAR