BEGIN:VCALENDAR
VERSION:2.0
PRODID:-//eventon.com NONSGML v1.0//EN
CALSCALE:GREGORIAN
METHOD:PUBLISH
BEGIN:VEVENT
UID:69e8dd6e2ef7f
DTSTAMP:20260422T143838Z
DTSTART:20260711T120000Z
DTEND:20260711T160000Z
LOCATION:YDSC Grimwith Reservoir
SUMMARY:Dinghy Adult Improver 5
DESCRIPTION:A series of 8 sessions and a regatta. 1pm-4.30pm (please arriv
 e at 12.30). Aimed at those graduating from beginner sessions.\nhttps://yor
 kshiredales.sc/events/dinghy-adult-improver-5-2/
URL:https://yorkshiredales.sc/events/dinghy-adult-improver-5-2/
END:VEVENT
END:VCALENDAR