BEGIN:VCALENDAR
VERSION:2.0
PRODID:-//eventon.com NONSGML v1.0//EN
CALSCALE:GREGORIAN
METHOD:PUBLISH
BEGIN:VEVENT
UID:69e8dd6ed56d1
DTSTAMP:20260422T143838Z
DTSTART:20260919T120000Z
DTEND:20260919T160000Z
LOCATION:YDSC Grimwith Reservoir
SUMMARY:Dinghy Adult Improver 7
DESCRIPTION:A series of 8 sessions and a regatta. 1pm-4.30pm (please arriv
 e at 12.30). Aimed at those graduating from beginner sessions.\nhttps://yor
 kshiredales.sc/events/dinghy-adult-improver-7-2/
URL:https://yorkshiredales.sc/events/dinghy-adult-improver-7-2/
END:VEVENT
END:VCALENDAR