BEGIN:VCALENDAR
VERSION:2.0
PRODID:-//eventon.com NONSGML v1.0//EN
CALSCALE:GREGORIAN
METHOD:PUBLISH
BEGIN:VEVENT
UID:69e8dd171bec8
DTSTAMP:20260422T143711Z
DTSTART:20260905T090000Z
DTEND:20260905T110000Z
LOCATION:YDSC Grimwith Reservoir
SUMMARY:Dinghy Beginners Training 6
DESCRIPTION:2 hour introductory or refresher session with a qualified instr
 uctor in a large dinghy. Open to both adults and children.\nhttps://yorkshi
 redales.sc/events/dinghy-beginners-training-6-2/
URL:https://yorkshiredales.sc/events/dinghy-beginners-training-6-2/
END:VEVENT
END:VCALENDAR