BEGIN:VCALENDAR
VERSION:2.0
PRODID:-//eventon.com NONSGML v1.0//EN
CALSCALE:GREGORIAN
METHOD:PUBLISH
BEGIN:VEVENT
UID:69e8dd6e7b742
DTSTAMP:20260422T143838Z
DTSTART:20260919T090000Z
DTEND:20260919T110000Z
LOCATION:YDSC Grimwith Reservoir
SUMMARY:Dinghy RYA Youth Scheme Beginners  - Autumn Block Session 7
DESCRIPTION:Morning sessions for complete beginners starting RYA Youth Stag
 e 1 to those who are working on Stage 3.\nhttps://yorkshiredales.sc/events/
 dinghy-rya-youth-scheme-beginners-autumn-block-session-7/
URL:https://yorkshiredales.sc/events/dinghy-rya-youth-scheme-beginners-autumn-block-session-7/
END:VEVENT
END:VCALENDAR