BEGIN:VCALENDAR
VERSION:2.0
PRODID:-//eventon.com NONSGML v1.0//EN
CALSCALE:GREGORIAN
METHOD:PUBLISH
BEGIN:VEVENT
UID:69e8dd2bdd6da
DTSTAMP:20260422T143731Z
DTSTART:20261003T090000Z
DTEND:20261003T110000Z
LOCATION:YDSC Grimwith Reservoir
SUMMARY:Dinghy RYA Youth Scheme Beginners  - Autumn Block Session 8
DESCRIPTION:Morning sessions for complete beginners starting RYA Youth Stag
 e 1 to those who are working on Stage 3.\nhttps://yorkshiredales.sc/events/
 dinghy-rya-youth-scheme-beginners-autumn-block-session-8/
URL:https://yorkshiredales.sc/events/dinghy-rya-youth-scheme-beginners-autumn-block-session-8/
END:VEVENT
END:VCALENDAR