BEGIN:VCALENDAR
VERSION:2.0
PRODID:-//eventon.com NONSGML v1.0//EN
CALSCALE:GREGORIAN
METHOD:PUBLISH
BEGIN:VEVENT
UID:69e8dd2bb0fd4
DTSTAMP:20260422T143731Z
DTSTART:20260516T090000Z
DTEND:20260516T110000Z
LOCATION:YDSC Grimwith Reservoir
SUMMARY:Dinghy RYA Youth Scheme Beginners  - Summer Block Session 2
DESCRIPTION:Morning sessions for complete beginners starting RYA Youth Stag
 e 1 to those who are working on Stage 3.\nhttps://yorkshiredales.sc/events/
 dinghy-rya-youth-scheme-beginners-summer-block-session-2-3/
URL:https://yorkshiredales.sc/events/dinghy-rya-youth-scheme-beginners-summer-block-session-2-3/
END:VEVENT
END:VCALENDAR