BEGIN:VCALENDAR
VERSION:2.0
PRODID:-//eventon.com NONSGML v1.0//EN
CALSCALE:GREGORIAN
METHOD:PUBLISH
BEGIN:VEVENT
UID:69e8dd2c16687
DTSTAMP:20260422T143732Z
DTSTART:20260627T090000Z
DTEND:20260627T110000Z
LOCATION:YDSC Grimwith Reservoir
SUMMARY:Dinghy RYA Youth Scheme Beginners  - Summer Block Session 4
DESCRIPTION:Morning sessions for complete beginners starting RYA Youth Stag
 e 1 to those who are working on Stage 3.\nhttps://yorkshiredales.sc/events/
 dinghy-rya-youth-scheme-beginners-summer-block-session-4-3/
URL:https://yorkshiredales.sc/events/dinghy-rya-youth-scheme-beginners-summer-block-session-4-3/
END:VEVENT
END:VCALENDAR