BEGIN:VCALENDAR
VERSION:2.0
PRODID:-//eventon.com NONSGML v1.0//EN
CALSCALE:GREGORIAN
METHOD:PUBLISH
BEGIN:VEVENT
UID:69e8dd188dbc9
DTSTAMP:20260422T143712Z
DTSTART:20261017
DTEND:20261018
LOCATION:YDSC Grimwith Reservoir
SUMMARY:Race Development and Improvers Groups Regatta
DESCRIPTION:Race Development and Improvers Groups Regatta\nhttps://yorkshir
 edales.sc/events/race-development-and-improvers-groups-regatta/
URL:https://yorkshiredales.sc/events/race-development-and-improvers-groups-regatta/
END:VEVENT
END:VCALENDAR