BEGIN:VCALENDAR
VERSION:2.0
PRODID:-//eventon.com NONSGML v1.0//EN
CALSCALE:GREGORIAN
METHOD:PUBLISH
BEGIN:VEVENT
UID:69e8dcca2c890
DTSTAMP:20260422T143554Z
DTSTART:20260504T080000Z
DTEND:20260504T160000Z
LOCATION:YDSC Grimwith Reservoir
SUMMARY:Safetyboat Refresher Training 2
DESCRIPTION:Safetyboat Refresher Training 2\nhttps://yorkshiredales.sc/even
 ts/safetyboat-refresher-training-2/
URL:https://yorkshiredales.sc/events/safetyboat-refresher-training-2/
END:VEVENT
END:VCALENDAR