BEGIN:VCALENDAR
VERSION:2.0
PRODID:-//eventon.com NONSGML v1.0//EN
CALSCALE:GREGORIAN
METHOD:PUBLISH
BEGIN:VEVENT
UID:69e8dd2b9b530
DTSTAMP:20260422T143731Z
DTSTART:20260606T090000Z
DTEND:20260606T110000Z
LOCATION:YDSC Grimwith Reservoir
SUMMARY:Windsurf Beginners 3
DESCRIPTION:Beginner sessions working towards RYA stages/levels. \nhttps:/
 /yorkshiredales.sc/events/windsurf-beginners-3-5/
URL:https://yorkshiredales.sc/events/windsurf-beginners-3-5/
END:VEVENT
END:VCALENDAR