BEGIN:VCALENDAR
VERSION:2.0
PRODID:-//eventon.com NONSGML v1.0//EN
CALSCALE:GREGORIAN
METHOD:PUBLISH
BEGIN:VEVENT
UID:69e8dd175a73d
DTSTAMP:20260422T143711Z
DTSTART:20260711T090000Z
DTEND:20260711T110000Z
LOCATION:YDSC Grimwith Reservoir
SUMMARY:Windsurf Beginners 5
DESCRIPTION:Beginner sessions working towards RYA stages/levels. \nhttps:/
 /yorkshiredales.sc/events/windsurf-beginners-5-5/
URL:https://yorkshiredales.sc/events/windsurf-beginners-5-5/
END:VEVENT
END:VCALENDAR