BEGIN:VCALENDAR
VERSION:2.0
PRODID:-//eventon.com NONSGML v1.0//EN
CALSCALE:GREGORIAN
METHOD:PUBLISH
BEGIN:VEVENT
UID:69e8dd2d6db3f
DTSTAMP:20260422T143733Z
DTSTART:20260905T090000Z
DTEND:20260905T110000Z
LOCATION:YDSC Grimwith Reservoir
SUMMARY:Windsurf Beginners 6
DESCRIPTION:Beginner sessions working towards RYA stages/levels. \nhttps:/
 /yorkshiredales.sc/events/windsurf-beginners-6-5/
URL:https://yorkshiredales.sc/events/windsurf-beginners-6-5/
END:VEVENT
END:VCALENDAR