BEGIN:VCALENDAR
VERSION:2.0
PRODID:-//eventon.com NONSGML v1.0//EN
CALSCALE:GREGORIAN
METHOD:PUBLISH
BEGIN:VEVENT
UID:69e8dd2b708f3
DTSTAMP:20260422T143731Z
DTSTART:20260919T090000Z
DTEND:20260919T110000Z
LOCATION:YDSC Grimwith Reservoir
SUMMARY:Windsurf Beginners 7
DESCRIPTION:Beginner sessions working towards RYA stages/levels. \nhttps:/
 /yorkshiredales.sc/events/windsurf-beginners-7-5/
URL:https://yorkshiredales.sc/events/windsurf-beginners-7-5/
END:VEVENT
END:VCALENDAR