BEGIN:VCALENDAR
VERSION:2.0
PRODID:-//eventon.com NONSGML v1.0//EN
CALSCALE:GREGORIAN
METHOD:PUBLISH
BEGIN:VEVENT
UID:69e8dd6fbcb27
DTSTAMP:20260422T143839Z
DTSTART:20261003T090000Z
DTEND:20261003T110000Z
LOCATION:YDSC Grimwith Reservoir
SUMMARY:Windsurf Beginners 8
DESCRIPTION:Beginner sessions working towards RYA stages/levels. \nhttps:/
 /yorkshiredales.sc/events/windsurf-beginners-8-5/
URL:https://yorkshiredales.sc/events/windsurf-beginners-8-5/
END:VEVENT
END:VCALENDAR