BEGIN:VCALENDAR
VERSION:2.0
PRODID:-//eventon.com NONSGML v1.0//EN
CALSCALE:GREGORIAN
METHOD:PUBLISH
BEGIN:VEVENT
UID:69e8dd1f7cad8
DTSTAMP:20260422T143719Z
DTSTART:20260627T123000Z
DTEND:20260627T153000Z
LOCATION:YDSC Grimwith Reservoir
SUMMARY:Windsurf Improvers 4
DESCRIPTION:Improver sessions working towards RYA stages/levels. \nhttps:/
 /yorkshiredales.sc/events/windsurf-improvers-4-4/
URL:https://yorkshiredales.sc/events/windsurf-improvers-4-4/
END:VEVENT
END:VCALENDAR