BEGIN:VCALENDAR
VERSION:2.0
PRODID:-//eventon.com NONSGML v1.0//EN
CALSCALE:GREGORIAN
METHOD:PUBLISH
BEGIN:VEVENT
UID:69e8dd179e530
DTSTAMP:20260422T143711Z
DTSTART:20260711T123000Z
DTEND:20260711T153000Z
LOCATION:YDSC Grimwith Reservoir
SUMMARY:Windsurf Improvers 5
DESCRIPTION:Improver sessions working towards RYA stages/levels. \nhttps:/
 /yorkshiredales.sc/events/windsurf-improvers-5-4/
URL:https://yorkshiredales.sc/events/windsurf-improvers-5-4/
END:VEVENT
END:VCALENDAR