BEGIN:VCALENDAR
VERSION:2.0
PRODID:-//eventon.com NONSGML v1.0//EN
CALSCALE:GREGORIAN
METHOD:PUBLISH
BEGIN:VEVENT
UID:69e8dd6f215ba
DTSTAMP:20260422T143839Z
DTSTART:20260919T123000Z
DTEND:20260919T153000Z
LOCATION:YDSC Grimwith Reservoir
SUMMARY:Windsurf Improvers 7
DESCRIPTION:Improver sessions working towards RYA stages/levels. \nhttps:/
 /yorkshiredales.sc/events/windsurf-improvers-7-4/
URL:https://yorkshiredales.sc/events/windsurf-improvers-7-4/
END:VEVENT
END:VCALENDAR