BEGIN:VCALENDAR
VERSION:2.0
PRODID:-//eventon.com NONSGML v1.0//EN
CALSCALE:GREGORIAN
METHOD:PUBLISH
BEGIN:VEVENT
UID:69e8dd2cb0443
DTSTAMP:20260422T143732Z
DTSTART:20261003T123000Z
DTEND:20261003T153000Z
LOCATION:YDSC Grimwith Reservoir
SUMMARY:Windsurf Improvers 8
DESCRIPTION:Improver sessions working towards RYA stages/levels. \nhttps:/
 /yorkshiredales.sc/events/windsurf-improvers-8-4/
URL:https://yorkshiredales.sc/events/windsurf-improvers-8-4/
END:VEVENT
END:VCALENDAR