BEGIN:VCALENDAR
VERSION:2.0
PRODID:-//eventon.com NONSGML v1.0//EN
CALSCALE:GREGORIAN
METHOD:PUBLISH
BEGIN:VEVENT
UID:69e8dcd0dcbb0
DTSTAMP:20260422T143600Z
DTSTART:20260606T123000Z
DTEND:20260606T160000Z
LOCATION:YDSC Grimwith Reservoir
SUMMARY:Youth Development Club 3
DESCRIPTION:For 12-17 year olds with Stage 3 or above to develop their sail
 ing and have fun with their peers\,  informal tuition and safetyboat suppor
 t provided.\nhttps://yorkshiredales.sc/events/youth-development-club-3/
URL:https://yorkshiredales.sc/events/youth-development-club-3/
END:VEVENT
END:VCALENDAR