BEGIN:VCALENDAR
VERSION:2.0
PRODID:-//eventon.com NONSGML v1.0//EN
CALSCALE:GREGORIAN
METHOD:PUBLISH
BEGIN:VEVENT
UID:69e8dcd5a4b0a
DTSTAMP:20260422T143605Z
DTSTART:20260919T123000Z
DTEND:20260919T160000Z
LOCATION:YDSC Grimwith Reservoir
SUMMARY:Youth Development Club 7
DESCRIPTION:For 12-17 year olds with Stage 3 or above to develop their sail
 ing and have fun with their peers\,  informal tuition and safetyboat suppor
 t provided.\nhttps://yorkshiredales.sc/events/youth-development-club-7/
URL:https://yorkshiredales.sc/events/youth-development-club-7/
END:VEVENT
END:VCALENDAR