BEGIN:VCALENDAR
VERSION:2.0
PRODID:-//eventon.com NONSGML v1.0//EN
CALSCALE:GREGORIAN
METHOD:PUBLISH
BEGIN:VEVENT
UID:69e8dcd5baae0
DTSTAMP:20260422T143605Z
DTSTART:20260509
DTEND:20260510
LOCATION:YDSC Grimwith Reservoir
SUMMARY:Aero Northern Championships
DESCRIPTION:Aero Northern Championships\nhttps://yorkshiredales.sc/events/a
 ero-open-6/
URL:https://yorkshiredales.sc/events/aero-open-6/
END:VEVENT
END:VCALENDAR