BEGIN:VCALENDAR
VERSION:2.0
PRODID:-//eventon.com NONSGML v1.0//EN
CALSCALE:GREGORIAN
METHOD:PUBLISH
BEGIN:VEVENT
UID:69e8dcd563a8d
DTSTAMP:20260422T143605Z
DTSTART:20261227
DTEND:20261228
LOCATION:YDSC Grimwith Reservoir
SUMMARY:BRASS MONKEY
DESCRIPTION:BRASS MONKEY\nhttps://yorkshiredales.sc/events/brass-monkey-4/
URL:https://yorkshiredales.sc/events/brass-monkey-4/
END:VEVENT
END:VCALENDAR