BEGIN:VCALENDAR
VERSION:2.0
PRODID:-//eventon.com NONSGML v1.0//EN
CALSCALE:GREGORIAN
METHOD:PUBLISH
BEGIN:VEVENT
UID:69e8dd1809280
DTSTAMP:20260422T143712Z
DTSTART:20260425
DTEND:20260426
LOCATION:YDSC Grimwith Reservoir
SUMMARY:Contender Northern Championship and Phantom Open Meeting
DESCRIPTION:Contender Northern Championship and Phantom Open Meeting\nhttps
 ://yorkshiredales.sc/events/contender-phantom-open/
URL:https://yorkshiredales.sc/events/contender-phantom-open/
END:VEVENT
END:VCALENDAR