BEGIN:VCALENDAR
VERSION:2.0
PRODID:-//eventon.com NONSGML v1.0//EN
CALSCALE:GREGORIAN
METHOD:PUBLISH
BEGIN:VEVENT
UID:69e8dd170ef8c
DTSTAMP:20260422T143711Z
DTSTART:20260912
DTEND:20260913
LOCATION:YDSC Grimwith Reservoir
SUMMARY:Fireball Inland Championships
DESCRIPTION:Fireball Inland Championships\nhttps://yorkshiredales.sc/events
 /fireball-open/
URL:https://yorkshiredales.sc/events/fireball-open/
END:VEVENT
END:VCALENDAR