BEGIN:VCALENDAR
VERSION:2.0
PRODID:-//eventon.com NONSGML v1.0//EN
CALSCALE:GREGORIAN
METHOD:PUBLISH
BEGIN:VEVENT
UID:69e8dd2d9993e
DTSTAMP:20260422T143733Z
DTSTART:20260523
DTEND:20260524
LOCATION:YDSC Grimwith Reservoir
SUMMARY:Laser 2000 and Vago Open
DESCRIPTION:Laser 2000 and Vago Open\nhttps://yorkshiredales.sc/events/lase
 r-2000-vago-open/
URL:https://yorkshiredales.sc/events/laser-2000-vago-open/
END:VEVENT
END:VCALENDAR