BEGIN:VCALENDAR
VERSION:2.0
PRODID:-//eventon.com NONSGML v1.0//EN
CALSCALE:GREGORIAN
METHOD:PUBLISH
BEGIN:VEVENT
UID:69e8dd1e7f1f7
DTSTAMP:20260422T143718Z
DTSTART:20260614
DTEND:20260615
LOCATION:YDSC Grimwith Reservoir
SUMMARY:National 12 Open
DESCRIPTION:National 12 Open\nhttps://yorkshiredales.sc/events/national-12-
 open/
URL:https://yorkshiredales.sc/events/national-12-open/
END:VEVENT
END:VCALENDAR