BEGIN:VCALENDAR
VERSION:2.0
PRODID:-//eventon.com NONSGML v1.0//EN
CALSCALE:GREGORIAN
METHOD:PUBLISH
BEGIN:VEVENT
UID:69e8dd19211f9
DTSTAMP:20260422T143713Z
DTSTART:20260704
DTEND:20260705
LOCATION:YDSC Grimwith Reservoir
SUMMARY:NEYYSA Travellers Open
DESCRIPTION:North East and Yorkshire Youth Sailing Association &#8211; book
 ed through NEYYSA\nhttps://yorkshiredales.sc/events/neyysa-travellers-open/
URL:https://yorkshiredales.sc/events/neyysa-travellers-open/
END:VEVENT
END:VCALENDAR