BEGIN:VCALENDAR
VERSION:2.0
PRODID:-//eventon.com NONSGML v1.0//EN
CALSCALE:GREGORIAN
METHOD:PUBLISH
BEGIN:VEVENT
UID:69e8dd1f51341
DTSTAMP:20260422T143719Z
DTSTART:20260629
DTEND:20260630
LOCATION:YDSC Grimwith Reservoir
SUMMARY:RYA Dinghy Instructor Course
DESCRIPTION:RYA Dinghy Instructor Course\nhttps://yorkshiredales.sc/events/
 rya-dinghy-instructor-course-7/
URL:https://yorkshiredales.sc/events/rya-dinghy-instructor-course-7/
END:VEVENT
END:VCALENDAR