BEGIN:VCALENDAR
VERSION:2.0
PRODID:-//eventon.com NONSGML v1.0//EN
CALSCALE:GREGORIAN
METHOD:PUBLISH
BEGIN:VEVENT
UID:69e8dd1ea9b7f
DTSTAMP:20260422T143718Z
DTSTART:20260720
DTEND:20260721
LOCATION:YDSC Grimwith Reservoir
SUMMARY:RYA Dinghy Instructor Course
DESCRIPTION:RYA Dinghy Instructor Course\nhttps://yorkshiredales.sc/events/
 rya-dinghy-instructor-course-8/
URL:https://yorkshiredales.sc/events/rya-dinghy-instructor-course-8/
END:VEVENT
END:VCALENDAR