BEGIN:VCALENDAR
VERSION:2.0
PRODID:-//eventon.com NONSGML v1.0//EN
CALSCALE:GREGORIAN
METHOD:PUBLISH
BEGIN:VEVENT
UID:69e8dd1710061
DTSTAMP:20260422T143711Z
DTSTART:20260607T083000Z
DTEND:20260607T120000Z
LOCATION:YDSC Grimwith Reservoir
SUMMARY:RYA Dinghy Instructor Pre-Entry Assessment
DESCRIPTION:Pre- requisite for the RYA DI Course.\nhttps://yorkshiredales.s
 c/events/rya-dinghy-instructor-pre-entry-assessment-3/
URL:https://yorkshiredales.sc/events/rya-dinghy-instructor-pre-entry-assessment-3/
END:VEVENT
END:VCALENDAR